BEGIN:VCALENDAR
PRODID:-//github.com/rianjs/ical.net//NONSGML ical.net 4.0//EN
VERSION:2.0
BEGIN:VEVENT
DESCRIPTION:Monatliches Treffen aller Radverkehrsinteressenten\nhttps://to
 uren-termine.adfc.de/radveranstaltung/140133-offentlicher-radlertreff
DTEND:20250923T190000Z
DTSTAMP:20260423T183256Z
DTSTART:20250923T170000Z
LOCATION:Gartenstraße 10\, 30938 Burgwedel
SEQUENCE:0
SUMMARY:Öffentlicher Radlertreff
UID:9cbd7b00-2881-45e4-8a5a-aa29b5e71959
URL:https://touren-termine.adfc.de/radveranstaltung/140133-offentlicher-ra
 dlertreff
END:VEVENT
END:VCALENDAR
