BEGIN:VCALENDAR
PRODID:-//github.com/rianjs/ical.net//NONSGML ical.net 4.0//EN
VERSION:2.0
BEGIN:VEVENT
DESCRIPTION:Wir graveln durch Wald\, Wiese und Flur um Oranienburg und ang
 renzende Ortschaften.\nhttps://touren-termine.adfc.de/radveranstaltung/12
 8239-gravel-tour-durch-wald-und-flur
DTEND:20240413T120000Z
DTSTAMP:20260425T232442Z
DTSTART:20240413T080000Z
LOCATION:Birkenwerderweg vor dem Bhf.Lehnitz\, 16515 Oranienburg
SEQUENCE:0
SUMMARY:Gravel - Tour durch Wald und Flur
UID:7c25365b-5a5a-41b1-ad6e-5c48aa2baa1a
URL:https://touren-termine.adfc.de/radveranstaltung/128239-gravel-tour-dur
 ch-wald-und-flur
END:VEVENT
END:VCALENDAR
