BEGIN:VCALENDAR
PRODID:-//github.com/rianjs/ical.net//NONSGML ical.net 4.0//EN
VERSION:2.0
BEGIN:VEVENT
DESCRIPTION:Genießt die Küstenlandschaft von Cuxhaven und erreicht das Wat
 tenmeer.\nEnde beim Wattenmeer‑Besucherzentrum.\nhttps://touren-termine.a
 dfc.de/radveranstaltung/186371-familienradtour-ins-wattenmeer
DTEND:20260524T110000Z
DTSTAMP:20260420T224317Z
DTSTART:20260524T090000Z
LOCATION:Bürgerbahnhof\, Am Bahnhof 1\, 27472 Cuxhaven
SEQUENCE:0
SUMMARY:Familien‑Radtour ins Wattenmeer
UID:af5aee92-79c4-4d4d-80bd-8f28d5982449
URL:https://touren-termine.adfc.de/radveranstaltung/186371-familienradtour
 -ins-wattenmeer
END:VEVENT
END:VCALENDAR
