BEGIN:VCALENDAR
PRODID:-//github.com/rianjs/ical.net//NONSGML ical.net 4.0//EN
VERSION:2.0
BEGIN:VEVENT
DESCRIPTION:Rauf aufs Rad für eine Spritztour in die Umgebung von Gauting!
 \nWöchentlich wechselnd naturkundliche Touren und Cappuccino-Touren.\nHeu
 te: Zum Mausoleum in Starnberg-Söcking\nhttps://touren-termine.adfc.de/ra
 dveranstaltung/105595-wochentliche-nachmittagstour-in-gauting
DTEND:20230815T150000Z
DTSTAMP:20260425T150759Z
DTSTART:20230815T120000Z
LOCATION:Rathaus\, Bahnhofstraße 7\, 82131 Gauting
SEQUENCE:0
SUMMARY:Wöchentliche Nachmittagstour in Gauting
UID:e3190ab8-a20f-4815-978c-92de1c217754
URL:https://touren-termine.adfc.de/radveranstaltung/105595-wochentliche-na
 chmittagstour-in-gauting
END:VEVENT
END:VCALENDAR
