BEGIN:VCALENDAR
PRODID:-//github.com/rianjs/ical.net//NONSGML ical.net 4.0//EN
VERSION:2.0
BEGIN:VEVENT
DESCRIPTION:Wir sind an allen Messetagen mit einem Infostand auf der Fahrr
 admesse vertreten.\nhttps://touren-termine.adfc.de/radveranstaltung/18987
 4-der-adfc-essen-auf-der-fahrradmesse-essen
DTEND:20260228T170000Z
DTSTAMP:20260421T102239Z
DTSTART:20260228T090000Z
LOCATION:Messe Essen\, 45131 Essen
SEQUENCE:0
SUMMARY:Der ADFC Essen auf der Fahrradmesse Essen
UID:ce901c29-3a4a-4d1c-982d-a5b82ffb8383
URL:https://touren-termine.adfc.de/radveranstaltung/189874-der-adfc-essen-
 auf-der-fahrradmesse-essen
END:VEVENT
END:VCALENDAR
