BEGIN:VCALENDAR
PRODID:-//github.com/rianjs/ical.net//NONSGML ical.net 4.0//EN
VERSION:2.0
BEGIN:VEVENT
DESCRIPTION:Heimat schmecken - regional produzierte Produkte vor Ort genie
 ßen und einkaufen\nhttps://touren-termine.adfc.de/radveranstaltung/154914
 -mit-dem-rad-zum-regiomarkt-in-raumland
DTEND:20250427T130000Z
DTSTAMP:20260423T064314Z
DTSTART:20250427T090000Z
LOCATION:Bahnhofstraße 1\, 57319 Bad Berleburg
SEQUENCE:0
SUMMARY:Mit dem Rad zum Regio-Markt in Raumland
UID:20753ca6-8ed2-4d10-9d69-2332cdab590c
URL:https://touren-termine.adfc.de/radveranstaltung/154914-mit-dem-rad-zum
 -regiomarkt-in-raumland
END:VEVENT
END:VCALENDAR
