BEGIN:VCALENDAR
PRODID:-//github.com/rianjs/ical.net//NONSGML ical.net 4.0//EN
VERSION:2.0
BEGIN:VEVENT
DESCRIPTION:Diese Tagestour bietet 2 lohnende Ziele zum Einkehren:\nMittag
 essen im Rittergütl und Kaffee trinken im Café Waldhauser. Mit Online-Anm
 eldung!\nhttps://touren-termine.adfc.de/radveranstaltung/156566-rittergut
 l-irschenhausen-und-cafe-waldhauser
DTEND:20250524T160000Z
DTSTAMP:20260425T150759Z
DTSTART:20250524T080000Z
LOCATION:Marktplatz\, 82205 Gilching
SEQUENCE:0
SUMMARY:Rittergütl Irschenhausen und Cafe Waldhauser
UID:2421960e-fa4a-4f73-a416-6b95ff2e34ca
URL:https://touren-termine.adfc.de/radveranstaltung/156566-rittergutl-irsc
 henhausen-und-cafe-waldhauser
END:VEVENT
END:VCALENDAR
