BEGIN:VCALENDAR
PRODID:-//github.com/rianjs/ical.net//NONSGML ical.net 4.0//EN
VERSION:2.0
BEGIN:VEVENT
DESCRIPTION:30-35 km\, gemütliches Tempo um 15 km/h mit Pausen und Einkehr
 \, Treffpunkt Parkplatz am Stadtwald RY\, 13:00 Uhr\, jeden 4. Donnerstag
  im Monat von Mai bis September\, ggf. Oktober (witterungsabhängig).\nhtt
 ps://touren-termine.adfc.de/radveranstaltung/186286-adfcseniorentour-2026
DTEND:20261023T150000Z
DTSTAMP:20260420T230945Z
DTSTART:20260625T110000Z
LOCATION:An der Rheydter Höhe 54\, 41239 Mönchengladbach
SEQUENCE:0
SUMMARY:ADFC-Seniorentour 2026
UID:b20765b9-15a7-4d3c-98b8-c54b4f8a7652
URL:https://touren-termine.adfc.de/radveranstaltung/186286-adfcseniorentou
 r-2026
END:VEVENT
END:VCALENDAR
