BEGIN:VCALENDAR
PRODID:-//github.com/rianjs/ical.net//NONSGML ical.net 4.0//EN
VERSION:2.0
BEGIN:VEVENT
DESCRIPTION:Einfache Feierabendtour rund um Rinteln .Jeder (ideal auch als
  Einsteigertour)\, der ein verkehrssicheres Fahrrad besitzt und sich  auf
  dem Fahrrad wohl  fühlt\, kann gerne  teilnehmen.\nhttps://touren-termin
 e.adfc.de/radveranstaltung/178784-feierabendtour-rund-um-rinteln
DTEND:20260623T190000Z
DTSTAMP:20260420T210545Z
DTSTART:20260623T160000Z
LOCATION:Nachtwächter \, Marktplatz 6\, 31737 Rinteln
SEQUENCE:0
SUMMARY:Feierabendtour rund um Rinteln
UID:f03a1701-dd3f-48f9-9c4f-88300c223eb9
URL:https://touren-termine.adfc.de/radveranstaltung/178784-feierabendtour-
 rund-um-rinteln
END:VEVENT
END:VCALENDAR
