BEGIN:VCALENDAR
PRODID:-//github.com/rianjs/ical.net//NONSGML ical.net 4.0//EN
VERSION:2.0
BEGIN:VEVENT
DESCRIPTION:Bergkirchen - Deutenhausen - Schwabhausen - Dachau\; für ein E
 is im Eiscafe Venezia legen wir in Schwabhausen einen kurzen Stopp ein\nh
 ttps://touren-termine.adfc.de/radveranstaltung/161272-nordwestrunde
DTEND:20250702T183000Z
DTSTAMP:20260421T100721Z
DTSTART:20250702T160000Z
LOCATION:Bike & Ride Fahrradparkhaus\, 85221 Dachau
SEQUENCE:0
SUMMARY:Nordwestrunde
UID:b6f58e0a-e3a4-4f6d-95f3-47b9884643ca
URL:https://touren-termine.adfc.de/radveranstaltung/161272-nordwestrunde
END:VEVENT
END:VCALENDAR
