BEGIN:VCALENDAR
PRODID:-//github.com/rianjs/ical.net//NONSGML ical.net 4.0//EN
VERSION:2.0
BEGIN:VEVENT
DESCRIPTION:Gemütliche Radtour zum Kürbishof Ligges in Kamen.\nhttps://tou
 ren-termine.adfc.de/radveranstaltung/139164-zum-kurbishof-nach-kamen
DTEND:20241005T130000Z
DTSTAMP:20260424T163056Z
DTSTART:20241005T080000Z
LOCATION:Iserlohn-Barendorf\, 58636 Iserlohn
SEQUENCE:0
SUMMARY:Zum Kürbishof nach Kamen
UID:5bf964b2-4f6c-4c22-a3bf-c45d6bd232b9
URL:https://touren-termine.adfc.de/radveranstaltung/139164-zum-kurbishof-n
 ach-kamen
END:VEVENT
END:VCALENDAR
