BEGIN:VCALENDAR
PRODID:-//github.com/rianjs/ical.net//NONSGML ical.net 4.0//EN
VERSION:2.0
BEGIN:VEVENT
DESCRIPTION:Termin am Wochenende! Für Eltern und Großeltern mit Kinderrada
 nhänger und Kindern im Kinderradanhänger.\nWir fahren zu Spielplätzen und
  zu für Kinder interessante Spots. Anmeldung bis Fr 29.05.2026..\nhttps:/
 /touren-termine.adfc.de/radveranstaltung/179283-elternkindradeln-mit-rada
 nhanger
DTEND:20260530T110000Z
DTSTAMP:20260419T191836Z
DTSTART:20260530T070000Z
LOCATION:Bahnhofsvorplatz\, 87600 Kaufbeuren
SEQUENCE:0
SUMMARY:Eltern-Kind-Radeln mit Radanhänger
UID:f75ced1e-e21d-4841-9f5e-7200a2ba9952
URL:https://touren-termine.adfc.de/radveranstaltung/179283-elternkindradel
 n-mit-radanhanger
END:VEVENT
END:VCALENDAR
