BEGIN:VCALENDAR
PRODID:-//github.com/rianjs/ical.net//NONSGML ical.net 4.0//EN
VERSION:2.0
BEGIN:VEVENT
DESCRIPTION:Der ADFC Neumünster führt „(E) Bike-Fahrsicherheitskurse“ durc
 h\, die dazu beitragen\, die Fähigkeiten und Fertigkeiten von Pedelec-Fah
 rern und -Fahrerinnen weiter zu entwickeln.\nhttps://touren-termine.adfc.
 de/radveranstaltung/196945-ebikefahrsicherheitstraining
DTEND:20260716T150000Z
DTSTAMP:20260421T073837Z
DTSTART:20260716T120000Z
LOCATION:Färberstraße\, 24534 Neumünster
SEQUENCE:0
SUMMARY:(E)-Bike-Fahrsicherheitstraining
UID:0b1fba86-a300-4ce3-b6c4-321530694e7f
URL:https://touren-termine.adfc.de/radveranstaltung/196945-ebikefahrsicher
 heitstraining
END:VEVENT
END:VCALENDAR
