BEGIN:VCALENDAR
PRODID:-//github.com/rianjs/ical.net//NONSGML ical.net 4.0//EN
VERSION:2.0
BEGIN:VEVENT
DESCRIPTION:Immer mittwochs bis September.\nTreffpunkt: 18 Uhr Fansteinrau
 te im Borussia-Park\nhttps://touren-termine.adfc.de/radveranstaltung/8851
 0-adfcafterworksporttour
DTEND:20230906T180000Z
DTSTAMP:20260421T230211Z
DTSTART:20230906T160000Z
LOCATION:Fan-Raute am Borussia Park\, 41179 Mönchengladbach
SEQUENCE:0
SUMMARY:ADFC-Afterwork-Sporttour
UID:9a682aeb-52cc-4b51-b7fe-ab4b3b3cbf92
URL:https://touren-termine.adfc.de/radveranstaltung/88510-adfcafterworkspo
 rttour
END:VEVENT
END:VCALENDAR
