BEGIN:VCALENDAR
PRODID:-//github.com/rianjs/ical.net//NONSGML ical.net 4.0//EN
VERSION:2.0
BEGIN:VEVENT
DESCRIPTION:Jeden Montag findet morgens eine Radtour statt.\nhttps://toure
 n-termine.adfc.de/radveranstaltung/122498-montag-morgen-tour
DTEND:20240219T110000Z
DTSTAMP:20260423T201213Z
DTSTART:20240219T090000Z
LOCATION:In der Ahe 29\, 27356 Rotenburg
SEQUENCE:0
SUMMARY:Montag Morgen Tour
UID:31f92b52-1d71-46d3-ae0c-796675a5a592
URL:https://touren-termine.adfc.de/radveranstaltung/122498-montag-morgen-t
 our
END:VEVENT
END:VCALENDAR
