BEGIN:VCALENDAR
PRODID:-//github.com/rianjs/ical.net//NONSGML ical.net 4.0//EN
VERSION:2.0
BEGIN:VEVENT
DESCRIPTION:Von Dreieich durch die Koberstadt nach Darmstadt-Eberstadt und
  weiter zum Restaurant Pfungstädter Brauereigasthof in Pfungstadt. 2. Tre
 ffpunkt Langen. Anmeldung notwendig.\nhttps://touren-termine.adfc.de/radv
 eranstaltung/144568-fahrt-nach-pfungstadt
DTEND:20250622T160000Z
DTSTAMP:20260423T191342Z
DTSTART:20250622T073000Z
LOCATION:Lindenplatz\, 63303 Sprendlingen
SEQUENCE:0
SUMMARY:Fahrt nach Pfungstadt
UID:7c694b32-b520-44d4-8836-8549e63d39c7
URL:https://touren-termine.adfc.de/radveranstaltung/144568-fahrt-nach-pfun
 gstadt
END:VEVENT
END:VCALENDAR
