BEGIN:VCALENDAR
PRODID:-//github.com/rianjs/ical.net//NONSGML ical.net 4.0//EN
VERSION:2.0
BEGIN:VEVENT
DESCRIPTION:Aktiventreff: In gemütlicher Runde besprechen wir die aktuelle
 n Fahrrad-Themen in Berlin Mitte. Treffpunkt erneut geändert! Wir treffen
  uns jetzt im DOREE 65 gegenüber dem Deichgraf Komm dazu!\nhttps://touren
 -termine.adfc.de/radveranstaltung/196155-treffen-der-stadtteilgruppe-adfc
 -berlin-mitte
DTEND:20260527T190000Z
DTSTAMP:20260419T155001Z
DTSTART:20260527T173000Z
LOCATION:DOREE 65\, Torfstraße 9\, 13353 Berlin
SEQUENCE:0
SUMMARY:Treffen der Stadtteilgruppe ADFC Berlin Mitte
UID:b8395d0e-db5c-4ebe-ad5c-eeb0beacda80
URL:https://touren-termine.adfc.de/radveranstaltung/196155-treffen-der-sta
 dtteilgruppe-adfc-berlin-mitte
END:VEVENT
END:VCALENDAR
