BEGIN:VCALENDAR
PRODID:-//github.com/rianjs/ical.net//NONSGML ical.net 4.0//EN
VERSION:2.0
BEGIN:VEVENT
DESCRIPTION:Wir treffen uns meist jeden 1. Donnerstag eines Monats (außer 
 August) um 19:00 Uhr im Gasthaus Belfort in Kaufbeuren\, Mindelheimer Str
 . 35. Fahrrad-Codierung möglich.\nhttps://touren-termine.adfc.de/radveran
 staltung/174111-adfc-radlerstammtisch
DTEND:20261105T200000Z
DTSTAMP:20260419T155629Z
DTSTART:20261105T180000Z
LOCATION:Gasthaus Belfort\, Mindelheimer Straße 35\, 87600 Kaufbeuren
SEQUENCE:0
SUMMARY:ADFC Radler-Stammtisch
UID:8c1ac562-4c45-4db6-ba84-b297b506bfab
URL:https://touren-termine.adfc.de/radveranstaltung/174111-adfc-radlerstam
 mtisch
END:VEVENT
END:VCALENDAR
