BEGIN:VCALENDAR
PRODID:-//github.com/rianjs/ical.net//NONSGML ical.net 4.0//EN
VERSION:2.0
BEGIN:VEVENT
DESCRIPTION:#FahrradFrauen des ADFC Berlin treffen sich am 17.06.24 ONLINE
  um 19 Uhr - schau einfach vorbei - gerne spontan\, über eine Anmeldung f
 reuen wir uns.\nhttps://touren-termine.adfc.de/radveranstaltung/127916-tr
 effen-des-frauennetzwerkes-des-adfc-berlin
DTEND:20240318T200000Z
DTSTAMP:20260424T050635Z
DTSTART:20240318T180000Z
LOCATION:Möckernstraße 47 - VELOKiez des ADFC Berlin\, 10963 Berlin
SEQUENCE:0
SUMMARY:Treffen des Frauen*Netzwerkes des ADFC Berlin
UID:05952550-5037-4638-ae44-7c25be2bf87a
URL:https://touren-termine.adfc.de/radveranstaltung/127916-treffen-des-fra
 uennetzwerkes-des-adfc-berlin
END:VEVENT
END:VCALENDAR
