BEGIN:VCALENDAR
PRODID:-//github.com/rianjs/ical.net//NONSGML ical.net 4.0//EN
VERSION:2.0
BEGIN:VEVENT
DESCRIPTION:Immer mittwochs bis September. 40 km in 2 Stunden mit Pause(n)
 .\nTreffpunkt: 18 Uhr Fansteinraute im Borussia-Park\nhttps://touren-term
 ine.adfc.de/radveranstaltung/118601-adfcafterworksporttour-2024
DTEND:20240522T180000Z
DTSTAMP:20260421T230403Z
DTSTART:20240522T160000Z
LOCATION:Fan-Raute am Borussia Park\, 41179 Mönchengladbach
SEQUENCE:0
SUMMARY:ADFC-Afterwork-Sporttour 2024
UID:1d8aa7a2-9fda-4dd9-8143-229a1b61dc2b
URL:https://touren-termine.adfc.de/radveranstaltung/118601-adfcafterworksp
 orttour-2024
END:VEVENT
END:VCALENDAR
