BEGIN:VCALENDAR
PRODID:-//github.com/rianjs/ical.net//NONSGML ical.net 4.0//EN
VERSION:2.0
BEGIN:VEVENT
DESCRIPTION:Jeden Montag findet morgens eine Radtour statt.\nhttps://toure
 n-termine.adfc.de/radveranstaltung/158187-montag-morgen-tour
DTEND:20250324T110000Z
DTSTAMP:20260423T201450Z
DTSTART:20250324T090000Z
LOCATION:In der Ahe 29\, 27356 Rotenburg
SEQUENCE:0
SUMMARY:Montag Morgen Tour
UID:9cb97a3e-cf3a-4dbc-8136-d8f11dca5547
URL:https://touren-termine.adfc.de/radveranstaltung/158187-montag-morgen-t
 our
END:VEVENT
END:VCALENDAR
