BEGIN:VCALENDAR
PRODID:-//github.com/rianjs/ical.net//NONSGML ical.net 4.0//EN
VERSION:2.0
BEGIN:VEVENT
DESCRIPTION:Flotte Runde über Norder- und Süderelbe\, durch die Seeveniede
 rung nach Hoopte\, mit der Fähre zum Zollenspieker und über den Marschbah
 ndamm zurück in die City. Fischbrötchenpause am Fähranleger!\nhttps://tou
 ren-termine.adfc.de/radveranstaltung/198191-dreimal-uber-die-elbe
DTEND:20260503T140000Z
DTSTAMP:20260423T161334Z
DTSTART:20260503T083000Z
LOCATION:Deichtorhallen\, 20095 Hamburg
SEQUENCE:0
SUMMARY:Dreimal über die Elbe
UID:0f8c9a9b-3c52-4170-979e-38d4ea2a4a0c
URL:https://touren-termine.adfc.de/radveranstaltung/198191-dreimal-uber-di
 e-elbe
END:VEVENT
END:VCALENDAR
