BEGIN:VCALENDAR
PRODID:-//github.com/rianjs/ical.net//NONSGML ical.net 4.0//EN
VERSION:2.0
BEGIN:VEVENT
DESCRIPTION:Auf der Rad-Tour lernen wir im gemeinsamen Miteinander von Men
 schen mit / ohne Beeinträchtigungen die schönen Haßberge im Maintal auf e
 inem Rundkurs ca. 40 km kennen. Anmeldung erforderlich !\nhttps://touren-
 termine.adfc.de/radveranstaltung/180212-hassberge-mit-und-ohne-beeintrach
 tigungen
DTEND:20260613T140000Z
DTSTAMP:20260421T175408Z
DTSTART:20260613T073000Z
LOCATION:Bahnhof Haßfurt\, Bahnhofstraße 12\, 97437 Haßfurt
SEQUENCE:0
SUMMARY:Haßberge mit und ohne Beeinträchtigungen
UID:ad01c1da-c6f0-4679-9102-f499b24b455e
URL:https://touren-termine.adfc.de/radveranstaltung/180212-hassberge-mit-u
 nd-ohne-beeintrachtigungen
END:VEVENT
END:VCALENDAR
