BEGIN:VCALENDAR
PRODID:-//github.com/rianjs/ical.net//NONSGML ical.net 4.0//EN
VERSION:2.0
BEGIN:VEVENT
DESCRIPTION:Am 28. Mai 2026 tagt die Mobilität-Werk-Stadt der VHS Gelsenki
 rchen in unserer Geschäftsstelle - offenes Format - alle Menschen können 
 mitmachen\nhttps://touren-termine.adfc.de/radveranstaltung/197307-mobilit
 atwerkstadt-der-vhs-ist-bei-uns-zu-gast
DTEND:20260528T171500Z
DTSTAMP:20260423T192112Z
DTSTART:20260528T150000Z
LOCATION:ADFC-Geschäftsstelle\, Hertastraße 22\, 45888 Gelsenkirchen
SEQUENCE:0
SUMMARY:Mobilität-Werk-Stadt der VHS ist bei uns zu Gast
UID:e0f40006-ef32-42a9-98b0-d0b31e33f1cd
URL:https://touren-termine.adfc.de/radveranstaltung/197307-mobilitatwerkst
 adt-der-vhs-ist-bei-uns-zu-gast
END:VEVENT
END:VCALENDAR
