BEGIN:VCALENDAR
PRODID:-//github.com/rianjs/ical.net//NONSGML ical.net 4.0//EN
VERSION:2.0
BEGIN:VEVENT
DESCRIPTION:Heute machen wir eine weite Schleife über Langwied zum Langwie
 der See zurück nach Dachau --ggfs. mit kleiner Pause im Biergarten am Lan
 gwieder See\nhttps://touren-termine.adfc.de/radveranstaltung/99995-langwi
 eder-see
DTEND:20230913T190000Z
DTSTAMP:20260421T100717Z
DTSTART:20230913T160000Z
LOCATION:Bike & Ride Fahrradparkhaus\, 85221 Dachau
SEQUENCE:0
SUMMARY:Langwieder See
UID:2b0a9b62-fe5d-44cd-8f53-994df1e9282c
URL:https://touren-termine.adfc.de/radveranstaltung/99995-langwieder-see
END:VEVENT
END:VCALENDAR
