BEGIN:VCALENDAR
PRODID:-//github.com/rianjs/ical.net//NONSGML ical.net 4.0//EN
VERSION:2.0
BEGIN:VEVENT
DESCRIPTION:Flüsse-Tour im Süden der Schwäbischen Alb\nhttps://touren-term
 ine.adfc.de/radveranstaltung/163711-von-ebingen-nach-hechingen
DTEND:20250619T160000Z
DTSTAMP:20260424T143548Z
DTSTART:20250619T060000Z
LOCATION:Baustraße Stuttgart 21\, 70173 Stuttgart
SEQUENCE:0
SUMMARY:Von Ebingen nach Hechingen
UID:fe425fbf-d6e5-4579-8b3a-bf7e55d2d03d
URL:https://touren-termine.adfc.de/radveranstaltung/163711-von-ebingen-nac
 h-hechingen
END:VEVENT
END:VCALENDAR
