BEGIN:VCALENDAR
PRODID:-//github.com/rianjs/ical.net//NONSGML ical.net 4.0//EN
VERSION:2.0
BEGIN:VEVENT
DESCRIPTION:Immer mittwochs bis September. 40 km in 2 Stunden mit Pause(n)
 .\nTreffpunkt: 18 Uhr Fansteinraute im Borussia-Park\nhttps://touren-term
 ine.adfc.de/radveranstaltung/118613-adfcafterworksporttour-2024
DTEND:20240814T180000Z
DTSTAMP:20260421T231421Z
DTSTART:20240814T160000Z
LOCATION:Fan-Raute am Borussia Park\, 41179 Mönchengladbach
SEQUENCE:0
SUMMARY:ADFC-Afterwork-Sporttour 2024
UID:e14e7bc5-4f60-42b9-83bd-2958f1c6cc56
URL:https://touren-termine.adfc.de/radveranstaltung/118613-adfcafterworksp
 orttour-2024
END:VEVENT
END:VCALENDAR
