BEGIN:VCALENDAR
PRODID:-//github.com/rianjs/ical.net//NONSGML ical.net 4.0//EN
VERSION:2.0
BEGIN:VEVENT
DESCRIPTION:Winnipeg (Kanada)\, Kiew\, Krakau - und auch Mainz - liegen au
 f 50° nördlicher Breite. Wir erkunden markante Punkte auf dem 50. Breiten
 grad in der Nähe von Mainz auf einer flachen Tour von 35 km Länge.\nhttps
 ://touren-termine.adfc.de/radveranstaltung/160076-50deg-gradtour-entlang-
 des-50-breitengrades
DTEND:20250719T160000Z
DTSTAMP:20260421T155958Z
DTSTART:20250719T110000Z
LOCATION:Mainz\, Hauptbahnhof\, Vorplatz\, 55116 Mainz
SEQUENCE:0
SUMMARY:50° Grad-Tour - entlang des 50. Breitengrades
UID:1afe79ae-462e-4017-857e-e0c474c4eb0e
URL:https://touren-termine.adfc.de/radveranstaltung/160076-50deg-gradtour-
 entlang-des-50-breitengrades
END:VEVENT
END:VCALENDAR
