BEGIN:VCALENDAR
PRODID:-//github.com/rianjs/ical.net//NONSGML ical.net 4.0//EN
VERSION:2.0
BEGIN:VEVENT
DESCRIPTION:Mitgliederversammlung\nhttps://touren-termine.adfc.de/radveran
 staltung/179827-mitgliederversammlung
DTEND:20260219T210000Z
DTSTAMP:20260421T100722Z
DTSTART:20260219T183000Z
LOCATION:Hauptstraße\, Neukamperfehn\, Hesel\, 26835 Landkreis Leer
SEQUENCE:0
SUMMARY:Mitgliederversammlung
UID:b20da52d-a811-4c06-b404-cc6c819f3105
URL:https://touren-termine.adfc.de/radveranstaltung/179827-mitgliederversa
 mmlung
END:VEVENT
END:VCALENDAR
