BEGIN:VCALENDAR
PRODID:-//github.com/rianjs/ical.net//NONSGML ical.net 4.0//EN
VERSION:2.0
BEGIN:VEVENT
DESCRIPTION:Auf der leicht hügeligen Tour in die Haßberge ca. 47 Km / 220 
 Hm\, besuchen wir das Feuerwehrmuseum in Mechenried und erhalten dort ein
 e Führung. Unkostenbeitrag € 2\,00 - Anmeldung erforderlich !\nhttps://to
 uren-termine.adfc.de/radveranstaltung/184651-mit-tatu-tata-zum-feuerwehrm
 useum-in-die-hassberge
DTEND:20260503T160000Z
DTSTAMP:20260421T180310Z
DTSTART:20260503T110000Z
LOCATION:Bahnhof Ebelsbach-Eltmann\, Bahnhofstraße\, 97500 Landkreis Haßbe
 rge
SEQUENCE:0
SUMMARY:Mit Tatü Tata zum Feuerwehrmuseum in die Haßberge
UID:87843490-50c0-4a95-b0be-aa888b00ca73
URL:https://touren-termine.adfc.de/radveranstaltung/184651-mit-tatu-tata-z
 um-feuerwehrmuseum-in-die-hassberge
END:VEVENT
END:VCALENDAR
