BEGIN:VCALENDAR
PRODID:-//github.com/rianjs/ical.net//NONSGML ical.net 4.0//EN
VERSION:2.0
BEGIN:VEVENT
DESCRIPTION:Start am S Bahnhof (Ostseite) in Könings Wusterhausen\, entlan
 g der Dahme vorbei am Krüpelsee\, Dolgensee\, Zeesener See mit Rast im "R
 estaurant Fährhaus"  Dolgenbrodt\,\nhttps://touren-termine.adfc.de/radver
 anstaltung/131917-funf-seen-dahme-rundfahrt
DTEND:20240607T140000Z
DTSTAMP:20260424T143548Z
DTSTART:20240607T081500Z
LOCATION:Bahnhof Könings Wusterhausen (Ostseite) Storkower Straße\, 15711 
 Königs Wusterhausen
SEQUENCE:0
SUMMARY:Fünf Seen Dahme Rundfahrt
UID:9ebcc47f-0daf-4931-b4c3-adff26eb588b
URL:https://touren-termine.adfc.de/radveranstaltung/131917-funf-seen-dahme
 -rundfahrt
END:VEVENT
END:VCALENDAR
