BEGIN:VCALENDAR
PRODID:-//github.com/rianjs/ical.net//NONSGML ical.net 4.0//EN
VERSION:2.0
BEGIN:VEVENT
DESCRIPTION:Die Kidical Mass Essen demonstriert seit 2019 für sichere Radw
 ege für Kinder und Jugendliche. Ziel der Demonstrationen ist auch die Ver
 besserung der Radwege\nhttps://touren-termine.adfc.de/radveranstaltung/15
 1146-kidical-mass-die-kinderfahrraddemo
DTEND:20250517T140000Z
DTSTAMP:20260419T182016Z
DTSTART:20250517T120000Z
LOCATION:Zollverein\, Werner-Müller-Platz\, 45141 Essen
SEQUENCE:0
SUMMARY:Kidical Mass – Die Kinder-Fahrrad-Demo
UID:c64992cf-fe2e-49fe-81b9-d31ad3dcc22e
URL:https://touren-termine.adfc.de/radveranstaltung/151146-kidical-mass-di
 e-kinderfahrraddemo
END:VEVENT
END:VCALENDAR
