BEGIN:VCALENDAR
PRODID:-//github.com/rianjs/ical.net//NONSGML ical.net 4.0//EN
VERSION:2.0
BEGIN:VEVENT
DESCRIPTION:Mit Robert´s Reisen 4 Tage ins Biosphärengebiet Schwäbische Al
 b\nhttps://touren-termine.adfc.de/radveranstaltung/175389-4tage-biosphare
 ngebiet-schwalb
DTEND;VALUE=DATE:20260507
DTSTAMP:20260425T183801Z
DTSTART;VALUE=DATE:20260504
LOCATION:Buronstraße\, 87600 Kaufbeuren
SEQUENCE:0
SUMMARY:4-Tage Biosphärengebiet Schw.ALB
UID:09c75da5-627a-4bc9-b26e-75284737dbe3
URL:https://touren-termine.adfc.de/radveranstaltung/175389-4tage-biosphare
 ngebiet-schwalb
END:VEVENT
END:VCALENDAR
