BEGIN:VCALENDAR
PRODID:-//github.com/rianjs/ical.net//NONSGML ical.net 4.0//EN
VERSION:2.0
BEGIN:VEVENT
DESCRIPTION:EFI-Alpin – die traditionelle sportlich schnelle Rundtour durc
 h das frühherbstliche Niederbergische Land\, Pause mit Einkehr am Berger 
 Hof\n\n\n2. Startpunkt :\n10:15 Essen Steele\, Kaiser-Otto-Platz\nhttps:/
 /touren-termine.adfc.de/radveranstaltung/151149-elfringhauser-schweiz
DTEND:20251005T140000Z
DTSTAMP:20260419T182024Z
DTSTART:20251005T073000Z
LOCATION:Willy-Brandt-Platz\, 45127 Essen
SEQUENCE:0
SUMMARY:Elfringhauser Schweiz
UID:3f85f389-5836-4ca3-ba9e-12bda5ead309
URL:https://touren-termine.adfc.de/radveranstaltung/151149-elfringhauser-s
 chweiz
END:VEVENT
END:VCALENDAR
