BEGIN:VCALENDAR
PRODID:-//github.com/rianjs/ical.net//NONSGML ical.net 4.0//EN
VERSION:2.0
BEGIN:VEVENT
DESCRIPTION:Von Netphen aus eine Rundtour mit Pedelecs über Wald- und Radw
 ege am Rothaarkamm. Wunderschöne Täler\,  zwei lange Anstiege und herrlic
 he Ausblicke. Einkehr im Forsthaus Lahnquelle.\nhttps://touren-termine.ad
 fc.de/radveranstaltung/132246-berge-und-taler-am-rothaarkamm-im-september
DTEND:20240928T150000Z
DTSTAMP:20260422T234535Z
DTSTART:20240928T080000Z
LOCATION:Sankt-Peters-Platz 3\, Altes Feuerwehrhaus\, 57250 Netphen
SEQUENCE:0
SUMMARY:Berge und Täler am Rothaarkamm im September
UID:50d13a57-454e-43dd-b0e5-c5a36188657d
URL:https://touren-termine.adfc.de/radveranstaltung/132246-berge-und-taler
 -am-rothaarkamm-im-september
END:VEVENT
END:VCALENDAR
