BEGIN:VCALENDAR
PRODID:-//github.com/rianjs/ical.net//NONSGML ical.net 4.0//EN
VERSION:2.0
BEGIN:VEVENT
DESCRIPTION:Du lebst in Schöneberg und möchtest dich für einen fahrrad-\, 
 menschen- und klimafreundlichen Bezirk einsetzen? Du bist herzlich eingel
 aden. Komm einfach dazu!\nhttps://touren-termine.adfc.de/radveranstaltung
 /142535-treffen-der-stadtteilgruppe-schoneberg
DTEND:20251006T190000Z
DTSTAMP:20260424T020626Z
DTSTART:20251006T170000Z
LOCATION:Raum für Beteiligung\, Dominicusstraße 11\, 10823 Berlin
SEQUENCE:0
SUMMARY:Treffen der Stadtteilgruppe Schöneberg
UID:ce918b60-f61d-4d00-bee6-fe3a26fbfeee
URL:https://touren-termine.adfc.de/radveranstaltung/142535-treffen-der-sta
 dtteilgruppe-schoneberg
END:VEVENT
END:VCALENDAR
