BEGIN:VCALENDAR
PRODID:-//github.com/rianjs/ical.net//NONSGML ical.net 4.0//EN
VERSION:2.0
BEGIN:VEVENT
DESCRIPTION:Bilderrückblick 35 Jahre ADFC KF. Wir treffen uns meist jeden 
 1. Donnerstag eines Monats (außer August) um 19:00 Uhr im Gasthaus Belfor
 t in Kaufbeuren\, Mindelheimer Str. 35. Fahrrad-Codierung möglich.\nhttps
 ://touren-termine.adfc.de/radveranstaltung/174106-bilderruckblick-35-jahr
 e-adfc-kf-adfcstammtisch
DTEND:20260611T170000Z
DTSTAMP:20260419T155837Z
DTSTART:20260611T170000Z
LOCATION:Gasthaus Belfort\, Mindelheimer Straße 35\, 87600 Kaufbeuren
SEQUENCE:0
SUMMARY:Bilderrückblick 35 Jahre ADFC KF. ADFC-Stammtisch
UID:beb41f71-f531-422b-a9df-507777003318
URL:https://touren-termine.adfc.de/radveranstaltung/174106-bilderruckblick
 -35-jahre-adfc-kf-adfcstammtisch
END:VEVENT
END:VCALENDAR
