BEGIN:VCALENDAR
PRODID:-//github.com/rianjs/ical.net//NONSGML ical.net 4.0//EN
VERSION:2.0
BEGIN:VEVENT
DESCRIPTION:Wir möchten mit euch neue Wege erfahren. Radfahren hält fit\, 
 entspannt und ist gesund. Was können Radfahrer:innen noch Gutes für sich 
 tun? Wir möchten euch ein paar Anregungen geben.\nhttps://touren-termine.
 adfc.de/radveranstaltung/181217-radeln-und-mehr
DTEND:20260508T173000Z
DTSTAMP:20260421T100935Z
DTSTART:20260508T150000Z
LOCATION:Ziegelhofstraße 97\, 26121 Oldenburg
SEQUENCE:0
SUMMARY:Radeln und mehr
UID:0711b193-5f92-48e8-9548-d37b25b8a536
URL:https://touren-termine.adfc.de/radveranstaltung/181217-radeln-und-mehr
END:VEVENT
END:VCALENDAR
