BEGIN:VCALENDAR
PRODID:-//github.com/rianjs/ical.net//NONSGML ical.net 4.0//EN
VERSION:2.0
BEGIN:VEVENT
DESCRIPTION:Alle Mitglieder*innen und interessierte Bürger*innen sind herz
 lich eingeladen.\nBesprochen werden aktuelle Radthemen\, sowie die erfolg
 ten und geplanten Touren. ACHTUNG: Beginn 18 Uhr wie immer!\nhttps://tour
 en-termine.adfc.de/radveranstaltung/126126-treffen-2024-der-oranienburger
 -ortsgruppe
DTEND:20240410T190000Z
DTSTAMP:20260425T201946Z
DTSTART:20240410T170000Z
LOCATION:Sonnenburg\, Robert-Koch-Straße 67\, 16515 Oranienburg
SEQUENCE:0
SUMMARY:Treffen 2024 der Oranienburger Ortsgruppe
UID:296f84e0-77cd-4d33-8b6b-b640fdb009ef
URL:https://touren-termine.adfc.de/radveranstaltung/126126-treffen-2024-de
 r-oranienburger-ortsgruppe
END:VEVENT
END:VCALENDAR
