BEGIN:VCALENDAR
PRODID:-//github.com/rianjs/ical.net//NONSGML ical.net 4.0//EN
VERSION:2.0
BEGIN:VEVENT
DESCRIPTION:Bis zur Umstellung der Sommerzeit\, Ende Oktober\, starten wir
  jeden Dienstag um 18 Uhr vom Hildegardplatz in Kempten zu einer kleinen 
 Feierabendrunde. Wir freuen uns über alte und neue Teilnehmer.\nhttps://t
 ouren-termine.adfc.de/radveranstaltung/98217-feierabendradeln
DTEND:20230822T180000Z
DTSTAMP:20260424T144811Z
DTSTART:20230822T160000Z
LOCATION:Hildegardplatz\, 87435 Kempten (Allgäu)
SEQUENCE:0
SUMMARY:Feierabendradeln
UID:571570cf-c3f2-4ec6-a07e-c6c68c97e131
URL:https://touren-termine.adfc.de/radveranstaltung/98217-feierabendradeln
END:VEVENT
END:VCALENDAR
