BEGIN:VCALENDAR
PRODID:-//github.com/rianjs/ical.net//NONSGML ical.net 4.0//EN
VERSION:2.0
BEGIN:VEVENT
DESCRIPTION:Schöne Fahrradtour des ADFC von Bad Bodenteich zu spektakuläre
 n Schnitzereien der Pfarrkirche in Osterwohle und spannenden Geschichten 
 an der Schlossruine in Tylsen. Diese Tour wird Sie überraschen.\nhttps://
 touren-termine.adfc.de/radveranstaltung/137140-adfctour-zu-pfarrkirchen-s
 chlossruinen
DTEND:20240817T170000Z
DTSTAMP:20260424T161611Z
DTSTART:20240817T080000Z
LOCATION:Tourist-Information auf der Burg\, 29389 Bad Bodenteich
SEQUENCE:0
SUMMARY:ADFC-Tour zu Pfarrkirchen / Schlossruinen
UID:d7fe6b4b-345d-4a21-808c-a078aeb93206
URL:https://touren-termine.adfc.de/radveranstaltung/137140-adfctour-zu-pfa
 rrkirchen-schlossruinen
END:VEVENT
END:VCALENDAR
