BEGIN:VCALENDAR
PRODID:-//github.com/rianjs/ical.net//NONSGML ical.net 4.0//EN
VERSION:2.0
BEGIN:VEVENT
DESCRIPTION:Auf abgelegenen Wegen fahren wir mit einem Zwischenstopp bei d
 er Wallfahrtskirche St. Willibald nach Kaltenberg. Dort Einkehr im Bierga
 rten. Rückfahrt über St. Ottilien und Inning.\nhttps://touren-termine.adf
 c.de/radveranstaltung/88904-schloss-kaltenberg
DTEND:20230604T160000Z
DTSTAMP:20260425T150447Z
DTSTART:20230604T080000Z
LOCATION:Marktplatz\, 82205 Gilching
SEQUENCE:0
SUMMARY:Schloss Kaltenberg
UID:edcb26e6-ac95-4798-b989-321bbc519ace
URL:https://touren-termine.adfc.de/radveranstaltung/88904-schloss-kaltenbe
 rg
END:VEVENT
END:VCALENDAR
