BEGIN:VCALENDAR
PRODID:-//github.com/rianjs/ical.net//NONSGML ical.net 4.0//EN
VERSION:2.0
BEGIN:VEVENT
DESCRIPTION:Interessierte Fahrradfreunde sind zum Aktiventreffen herzlich 
 willkommen!\nhttps://touren-termine.adfc.de/radveranstaltung/149903-adfc-
 aktiventreffen
DTEND:20250116T193000Z
DTSTAMP:20260420T150618Z
DTSTART:20250116T173000Z
LOCATION:Alsenstraße 27\, 44789 Bochum
SEQUENCE:0
SUMMARY:ADFC Aktiventreffen
UID:b5fe6851-4a57-42fa-8b08-f9516f32ddae
URL:https://touren-termine.adfc.de/radveranstaltung/149903-adfc-aktiventre
 ffen
END:VEVENT
END:VCALENDAR
