BEGIN:VCALENDAR
PRODID:-//github.com/rianjs/ical.net//NONSGML ical.net 4.0//EN
VERSION:2.0
BEGIN:VEVENT
DESCRIPTION:Wir radeln bei der Critical Mass in Kaufbeuren für sicheren un
 d alltagstauglichen Radverkehr in Kaufbeuren.\nhttps://touren-termine.adf
 c.de/radveranstaltung/98122-critical-mass-kaufbeuren
DTEND:20230929T171500Z
DTSTAMP:20260419T155606Z
DTSTART:20230929T160000Z
LOCATION:Kaiser-Max-Straße\, 87600 Kaufbeuren
SEQUENCE:0
SUMMARY:Critical Mass Kaufbeuren
UID:0c5784bc-4ce8-4f9a-9585-f8da8e09cdb4
URL:https://touren-termine.adfc.de/radveranstaltung/98122-critical-mass-ka
 ufbeuren
END:VEVENT
END:VCALENDAR
