BEGIN:VCALENDAR
PRODID:-//github.com/rianjs/ical.net//NONSGML ical.net 4.0//EN
VERSION:2.0
BEGIN:VEVENT
DESCRIPTION:Unsere Geschäftsstelle ist für alle Anliegen und offenen Frage
 n geöffnet.\nhttps://touren-termine.adfc.de/radveranstaltung/183781-offnu
 ngszeit-unserer-geschaftsstelle
DTEND:20260109T170000Z
DTSTAMP:20260421T115648Z
DTSTART:20260109T150000Z
LOCATION:Essen (Innenstadt)\, ADFC Essen Geschäftsstelle\, Rottstraße 5\, 
 45127 Essen
SEQUENCE:0
SUMMARY:Öffnungszeit unserer Geschäftsstelle
UID:9e827c3b-64ac-441c-991b-3fd1dea064e3
URL:https://touren-termine.adfc.de/radveranstaltung/183781-offnungszeit-un
 serer-geschaftsstelle
END:VEVENT
END:VCALENDAR
