BEGIN:VCALENDAR
PRODID:-//github.com/rianjs/ical.net//NONSGML ical.net 4.0//EN
VERSION:2.0
BEGIN:VEVENT
DESCRIPTION:Du lebst in Schöneberg und möchtest dich für einen fahrrad-\, 
 menschen- und klimafreundlichen Bezirk einsetzen? Du bist herzlich eingel
 aden. Komm einfach dazu!\nhttps://touren-termine.adfc.de/radveranstaltung
 /142534-treffen-der-stadtteilgruppe-schoneberg
DTEND:20250901T190000Z
DTSTAMP:20260424T020902Z
DTSTART:20250901T170000Z
LOCATION:Raum für Beteiligung\, Dominicusstraße 11\, 10823 Berlin
SEQUENCE:0
SUMMARY:Treffen der Stadtteilgruppe Schöneberg
UID:a73f96e9-8ce4-48ef-a69d-4b4966ea6991
URL:https://touren-termine.adfc.de/radveranstaltung/142534-treffen-der-sta
 dtteilgruppe-schoneberg
END:VEVENT
END:VCALENDAR
