BEGIN:VCALENDAR
PRODID:-//github.com/rianjs/ical.net//NONSGML ical.net 4.0//EN
VERSION:2.0
BEGIN:VEVENT
DESCRIPTION:Lust auf noch etwas Bewegung am Abend? \nDann fahren Sie mit b
 ei den Feierabendtouren rund um Bietigheim-Bissingen.\nhttps://touren-ter
 mine.adfc.de/radveranstaltung/89889-bietigheimbissinger-mountainbikefeier
 abendtouren
DTEND:20230614T190000Z
DTSTAMP:20260425T194031Z
DTSTART:20230614T163000Z
LOCATION:Enzpavillon\, 74321 Bietigheim-Bissingen
SEQUENCE:0
SUMMARY:Bietigheim-Bissinger Mountainbike-Feierabendtouren
UID:643fe4aa-a1a6-475d-87b4-abd07c51ca58
URL:https://touren-termine.adfc.de/radveranstaltung/89889-bietigheimbissin
 ger-mountainbikefeierabendtouren
END:VEVENT
END:VCALENDAR
