BEGIN:VCALENDAR
PRODID:-//github.com/rianjs/ical.net//NONSGML ical.net 4.0//EN
VERSION:2.0
BEGIN:VEVENT
DESCRIPTION:ca. 60 km\, 16-18 km/h\, Start: Aachen-Busbahnhof\, 25.08.2024
 \, 10:00 Uhr - 10:15 Uhr. TOUR IST AUSGEBUCHT. BITTE NICHT MEHR ANMELDEN.
 \nhttps://touren-termine.adfc.de/radveranstaltung/133591-kalterherberg-aa
 chen-ausgebucht
DTEND:20240825T150000Z
DTSTAMP:20260420T231635Z
DTSTART:20240825T080000Z
LOCATION:Peterstraße 21\, 52062 Aachen
SEQUENCE:0
SUMMARY:Kalterherberg - Aachen  AUSGEBUCHT!
UID:8936a2ef-22a3-4558-b418-dd22329fb27e
URL:https://touren-termine.adfc.de/radveranstaltung/133591-kalterherberg-a
 achen-ausgebucht
END:VEVENT
END:VCALENDAR
