BEGIN:VCALENDAR
PRODID:-//github.com/rianjs/ical.net//NONSGML ical.net 4.0//EN
VERSION:2.0
BEGIN:VEVENT
DESCRIPTION:Wir fahren größtenteils über befestige Wege nördlich und südli
 ch des Edertales um Arfeld und Rich\, um nach einer Einkehr im "Café Hein
 bach" über den Ederauenradweg zurück nach Bad Berleburg zu fahren.\nhttps
 ://touren-termine.adfc.de/radveranstaltung/125894-anradeltour-rund-um-arf
 eld-und-zum-cafe-hainbach
DTEND:20240420T150000Z
DTSTAMP:20260423T030914Z
DTSTART:20240420T083000Z
LOCATION:Bahnhof Bad Berleburg\, 57319 Bad Berleburg
SEQUENCE:0
SUMMARY:Anradeltour rund um Arfeld und zum Café Hainbach
UID:48fcd1de-7392-4cc4-8171-5dbcfd910385
URL:https://touren-termine.adfc.de/radveranstaltung/125894-anradeltour-run
 d-um-arfeld-und-zum-cafe-hainbach
END:VEVENT
END:VCALENDAR
