BEGIN:VCALENDAR
PRODID:-//github.com/rianjs/ical.net//NONSGML ical.net 4.0//EN
VERSION:2.0
BEGIN:VEVENT
DESCRIPTION:Blieskastel - Bliestal Freizeitweg Reinheim - Bliesgau Höhenwe
 g Biesingen - Seelbach Bioimkerei Wenzel - Niederwürzbach - Blieskastel.\
 nUm Anmeldung bis 15.06.24 wird gebeten.\nhttps://touren-termine.adfc.de/
 radveranstaltung/127048-tour-zu-den-bienen
DTEND:20240623T150000Z
DTSTAMP:20260421T100926Z
DTSTART:20240623T080000Z
LOCATION:Paradeplatz\, 66440 Blieskastel
SEQUENCE:0
SUMMARY:Tour zu den Bienen
UID:a4f83152-89f0-4d3d-9583-1e39d1a1dbe6
URL:https://touren-termine.adfc.de/radveranstaltung/127048-tour-zu-den-bie
 nen
END:VEVENT
END:VCALENDAR
